BEGIN:VCALENDAR
VERSION:2.0
PRODID:-//North Douglas Betterment - ECPv6.15.17//NONSGML v1.0//EN
CALSCALE:GREGORIAN
METHOD:PUBLISH
X-ORIGINAL-URL:https://ndbetterment.org
X-WR-CALDESC:Events for North Douglas Betterment
REFRESH-INTERVAL;VALUE=DURATION:PT1H
X-Robots-Tag:noindex
X-PUBLISHED-TTL:PT1H
BEGIN:VTIMEZONE
TZID:UTC
BEGIN:STANDARD
TZOFFSETFROM:+0000
TZOFFSETTO:+0000
TZNAME:UTC
DTSTART:20220101T000000
END:STANDARD
END:VTIMEZONE
BEGIN:VEVENT
DTSTART;TZID=UTC:20230805T100000
DTEND;TZID=UTC:20230805T190000
DTSTAMP:20260420T043242
CREATED:20230615T041849Z
LAST-MODIFIED:20230615T041849Z
UID:492-1691229600-1691262000@ndbetterment.org
SUMMARY:Eagles Forever... Forever Eagles YHS Reunion
DESCRIPTION:Save the Date: August 5th-6th\, 2023\nForever Eagles . . . Eagles Forever\nYoncalla High School Reunion\nPlease RSVP here: https://forms.gle/vUKGiE1HW2urta6p6\nAlong with Mike Bendele and several other former teachers\, students and friends\, this event is a ONE-TIME reunion that we have titled: “Forever Eagles . . . Eagles Forever”.\nInitially\, we wanted to target the graduating classes of the late 1970’s\, 80’s and 90’s. These are the years in which we were working at Yoncalla High School as teachers and coaches. As we got deeper into the planning (we will have been organizing this for about a year and a half) it was becoming clear to us that other YHS graduates\, family and friends would have a natural interest in being in attendance.\nWe desire to make everyone feel welcome and comfortable . . . so we have expanded our class invitation to . . . ALL GRADUATING CLASSES . . . all YHS graduates . . . all teachers . . . all coaches . . . all staff . . . all family . . . and all friends!!\nWe are planning to hold the reunion at the YHS gym where we have scheduled slide show presentations (by the decade and about 30-45 minutes in length) beginning in the mid-1940’s to the present.\nWe are also setting up special YHS memorabilia displays that include scrapbooks\, athletic record boards\, and associated YHS clothing among other items of special school interest. With the remodeling of the school\, we have planned and scheduled guided school tours. We hope to attract as many former teachers and staff as we can and we will have a special reception area in the gym for them to greet their former students.\nThere will be a professional photographer present for group pictures that will also be available for purchase.\nT-shirts will also be available for purchase. More info to come.\nRV Parking\nThere will be organized RV parking on the lower athletic fields.\nBecause “Forever Eagles . . . Eagles Forever” is scheduled for August 5th and 6th\, the Yoncalla Summer Festival (organized and directed by David Adkisson) will also have planned their activities for this weekend. Down on Main Street\, the normal Festival activities will be happening\, including vendor booths\, festival activities and live music later on Saturday night. We are being told that the Festival is trying to open the Applegate House (near the end of Halo Trail) for tours on this same weekend!\nOn-site food options for attendees will be available as well as plenty of other food options downtown in conjunction with the Yoncalla Festival!\nFor questions or more information you may contact Terry Duncan (johnnybean53@yahoo.com) or Mike Bendele (mbendele@ipw-inc.net).\nWe do not want to adversely impact the important and established annual reunion organized by Wayne Van Loon. That reunion will be in place for years to come.\n—\nSCHEDULE\nSaturday\, August 5th\, 2023\n10:00 – Doors Open\n11:00 – Welcome and 1940’s/50’s Slideshow (Gym)\n12:00 – 1960’s Slideshow (Gym)\n1:00 – 1970’s Slideshow (Gym)\n1:45 – First Building Tour (Meet in hallway in front of the office)\n2:00 – ALL group picture (Gather on east side of building)\n2:30 – 1980’s Slideshow (Gym)\n3:30 – 1990’s Slideshow (Gym)\n4:15 – Second Building Tour (Meet in hallway in front of the office)\n4:30 – 2000’s Slideshow (Gym)\n5:30 – 2010’s Slideshow (Gym)\n7:00 – Doors Close\n\nFacebook Event
URL:https://ndbetterment.org/event/eagles-forever-forever-eagles-yhs-reunion/
LOCATION:Yoncalla High School\, 292 Fifth St\, Yoncalla\, OR\, 97499\, United States
CATEGORIES:Yoncalla
END:VEVENT
BEGIN:VEVENT
DTSTART;TZID=UTC:20230805T120000
DTEND;TZID=UTC:20230805T220000
DTSTAMP:20260420T043242
CREATED:20230615T041324Z
LAST-MODIFIED:20230615T041324Z
UID:490-1691236800-1691272800@ndbetterment.org
SUMMARY:Yoncalla Summer Festival
DESCRIPTION:Grab the entire family and lets have some fun at the 2023 Yoncalla Summer Festival!\nThis years one day event will offer kids games\, prizes\, vendors\, local open businesses\, music and more! Keep checking back for updates as we release our music line up!\n\nThe Yoncalla Alumni Association will be hosting their “Eagles Forever… Forever Eagles YHS Reunion” the same day. Lets pack the town\, support local business\, and have a good time.\n\nFacebook Event
URL:https://ndbetterment.org/event/yoncalla-summer-festival/
CATEGORIES:Yoncalla
END:VEVENT
BEGIN:VEVENT
DTSTART;TZID=UTC:20230821T180000
DTEND;TZID=UTC:20230821T190000
DTSTAMP:20260420T043242
CREATED:20230808T003035Z
LAST-MODIFIED:20230810T054329Z
UID:534-1692640800-1692644400@ndbetterment.org
SUMMARY:Future of Fireworks in Yoncalla
DESCRIPTION:Everyone is invited to attend the NDB meeting on August 21st at 6pm at the Yoncalla Community Center to discuss the future of fireworks in our community and how to get involved. We need your help to keep the fireworks in Yoncalla. \n  \nFacebook Event
URL:https://ndbetterment.org/event/future-of-fireworks-in-yoncalla/
LOCATION:Yoncalla Community Center\, 400 Main St.\, Yoncalla\, OR\, 97499\, United States
CATEGORIES:NDB Board Meeting,North Douglas Betterment,Yoncalla
END:VEVENT
BEGIN:VEVENT
DTSTART;TZID=UTC:20230826T080000
DTEND;TZID=UTC:20230826T170000
DTSTAMP:20260420T043242
CREATED:20230615T040621Z
LAST-MODIFIED:20230826T070544Z
UID:483-1693036800-1693069200@ndbetterment.org
SUMMARY:Yoncalla City-Wide Yard Sale
DESCRIPTION:Join us for the 2023 Yoncalla City Wide Yard Sale\nSaturday\, August 26th from 8am-5pm.\n\nDigital map available here\n\nPhysical maps will be available at the Yoncalla Post Office or Community Center on August 26th.
URL:https://ndbetterment.org/event/yoncalla-city-wide-yard-sale-23/
CATEGORIES:North Douglas Betterment,Yoncalla
END:VEVENT
END:VCALENDAR