BEGIN:VCALENDAR
VERSION:2.0
PRODID:-//North Douglas Betterment - ECPv6.15.17//NONSGML v1.0//EN
CALSCALE:GREGORIAN
METHOD:PUBLISH
X-WR-CALNAME:North Douglas Betterment
X-ORIGINAL-URL:http://ndbetterment.org
X-WR-CALDESC:Events for North Douglas Betterment
REFRESH-INTERVAL;VALUE=DURATION:PT1H
X-Robots-Tag:noindex
X-PUBLISHED-TTL:PT1H
BEGIN:VTIMEZONE
TZID:UTC
BEGIN:STANDARD
TZOFFSETFROM:+0000
TZOFFSETTO:+0000
TZNAME:UTC
DTSTART:20190101T000000
END:STANDARD
END:VTIMEZONE
BEGIN:VEVENT
DTSTART;TZID=UTC:20231216T190000
DTEND;TZID=UTC:20231216T190000
DTSTAMP:20260419T214733
CREATED:20231208T215040Z
LAST-MODIFIED:20231208T215040Z
UID:621-1702753200-1702753200@ndbetterment.org
SUMMARY:Yoncalla Community Christmas Party
DESCRIPTION:
URL:http://ndbetterment.org/event/yoncalla-community-christmas-party/
LOCATION:Yoncalla Community Center\, 400 Main St.\, Yoncalla\, OR\, 97499\, United States
CATEGORIES:Yoncalla,Yoncalla Area Chamber of Commerce
END:VEVENT
BEGIN:VEVENT
DTSTART;TZID=UTC:20231104T090000
DTEND;TZID=UTC:20231104T150000
DTSTAMP:20260419T214733
CREATED:20231031T014055Z
LAST-MODIFIED:20231031T014055Z
UID:561-1699088400-1699110000@ndbetterment.org
SUMMARY:Yoncalla Holiday Craft Fair
DESCRIPTION:Yoncalla Holiday Craft Fair\nSaturday\, November 4th from 9-3\nat the Yoncalla Community Center\n\nVendor fees\, breakfast sales\, and raffle benefiting North Douglas Betterment’s Yoncalla 4th of July Fireworks\nIf you are interested in having a booth\, please contact Yoncalla Chamber via messenger or via call/text at (541) 537-4907 or fill out the online vendor form here: https://forms.gle/NzCgcnocvpmP739p9\n\n Admission is Free\n Raffle Prizes\n Breakfast 9-12\nBiscuits and gravy benefiting the Yoncalla 4th of July Fireworks\n Lunch 12-3\nChicken noodle soup and egg salad sandwiches\n\n Support local businesses and NDB’s Yoncalla 4th of July Fireworks
URL:http://ndbetterment.org/event/yoncalla-holiday-craft-fair/
LOCATION:Yoncalla Community Center\, 400 Main St.\, Yoncalla\, OR\, 97499\, United States
CATEGORIES:North Douglas Betterment,Yoncalla,Yoncalla Area Chamber of Commerce
END:VEVENT
BEGIN:VEVENT
DTSTART;VALUE=DATE:20201221
DTEND;VALUE=DATE:20201222
DTSTAMP:20260419T214733
CREATED:20201128T192259Z
LAST-MODIFIED:20201128T192259Z
UID:371-1608508800-1608595199@ndbetterment.org
SUMMARY:Care and Share Food Bank Christmas Boxes
DESCRIPTION:
URL:http://ndbetterment.org/event/care-and-share-food-bank-christmas-boxes/
LOCATION:OR
CATEGORIES:Yoncalla,Yoncalla Area Chamber of Commerce
END:VEVENT
BEGIN:VEVENT
DTSTART;TZID=UTC:20201123T090000
DTEND;TZID=UTC:20201123T093000
DTSTAMP:20260419T214733
CREATED:20201128T192203Z
LAST-MODIFIED:20201128T192203Z
UID:369-1606122000-1606123800@ndbetterment.org
SUMMARY:Care and Share Food Bank Thanksgiving Boxes
DESCRIPTION:
URL:http://ndbetterment.org/event/care-and-share-food-bank-thanksgiving-boxes/
LOCATION:OR
CATEGORIES:Yoncalla,Yoncalla Area Chamber of Commerce
END:VEVENT
BEGIN:VEVENT
DTSTART;VALUE=DATE:20201015
DTEND;VALUE=DATE:20201120
DTSTAMP:20260419T214733
CREATED:20201128T192006Z
LAST-MODIFIED:20201128T192006Z
UID:366-1602720000-1605830399@ndbetterment.org
SUMMARY:Care and Share Food Bank
DESCRIPTION:
URL:http://ndbetterment.org/event/care-and-share-food-bank/
LOCATION:OR
CATEGORIES:Yoncalla,Yoncalla Area Chamber of Commerce
END:VEVENT
END:VCALENDAR