BEGIN:VCALENDAR
VERSION:2.0
PRODID:-//North Douglas Betterment - ECPv6.15.17//NONSGML v1.0//EN
CALSCALE:GREGORIAN
METHOD:PUBLISH
X-ORIGINAL-URL:http://ndbetterment.org
X-WR-CALDESC:Events for North Douglas Betterment
REFRESH-INTERVAL;VALUE=DURATION:PT1H
X-Robots-Tag:noindex
X-PUBLISHED-TTL:PT1H
BEGIN:VTIMEZONE
TZID:UTC
BEGIN:STANDARD
TZOFFSETFROM:+0000
TZOFFSETTO:+0000
TZNAME:UTC
DTSTART:20220101T000000
END:STANDARD
END:VTIMEZONE
BEGIN:VEVENT
DTSTART;TZID=UTC:20230821T180000
DTEND;TZID=UTC:20230821T190000
DTSTAMP:20260421T185308
CREATED:20230808T003035Z
LAST-MODIFIED:20230810T054329Z
UID:534-1692640800-1692644400@ndbetterment.org
SUMMARY:Future of Fireworks in Yoncalla
DESCRIPTION:Everyone is invited to attend the NDB meeting on August 21st at 6pm at the Yoncalla Community Center to discuss the future of fireworks in our community and how to get involved. We need your help to keep the fireworks in Yoncalla. \n  \nFacebook Event
URL:http://ndbetterment.org/event/future-of-fireworks-in-yoncalla/
LOCATION:Yoncalla Community Center\, 400 Main St.\, Yoncalla\, OR\, 97499\, United States
CATEGORIES:NDB Board Meeting,North Douglas Betterment,Yoncalla
END:VEVENT
BEGIN:VEVENT
DTSTART;TZID=UTC:20230717T180000
DTEND;TZID=UTC:20230717T193000
DTSTAMP:20260421T185308
CREATED:20230615T045610Z
LAST-MODIFIED:20230615T045610Z
UID:509-1689616800-1689622200@ndbetterment.org
SUMMARY:NDB Board Meeting
DESCRIPTION:North Douglas Betterment Board Meeting \n3rd Monday of every month at 6pm at the Yoncalla Library
URL:http://ndbetterment.org/event/ndb-board-meeting-2/
LOCATION:Yoncalla Library\, 194 Birch St\, Yoncalla\, OR\, 97499\, United States
CATEGORIES:NDB Board Meeting,North Douglas Betterment,Yoncalla
END:VEVENT
BEGIN:VEVENT
DTSTART;TZID=UTC:20230619T060000
DTEND;TZID=UTC:20230619T193000
DTSTAMP:20260421T185308
CREATED:20230615T045511Z
LAST-MODIFIED:20230615T045511Z
UID:506-1687154400-1687203000@ndbetterment.org
SUMMARY:NDB Board Meeting
DESCRIPTION:North Douglas Betterment Board Meeting \n3rd Monday of every month at 6pm at the Yoncalla Library
URL:http://ndbetterment.org/event/ndb-board-meeting/
LOCATION:Yoncalla Library\, 194 Birch St\, Yoncalla\, OR\, 97499\, United States
CATEGORIES:NDB Board Meeting,North Douglas Betterment,Yoncalla
END:VEVENT
END:VCALENDAR